BEGIN:VCALENDAR
VERSION:2.0
PRODID:-//Blue Jeans &amp; Bordeaux - ECPv6.15.20//NONSGML v1.0//EN
CALSCALE:GREGORIAN
METHOD:PUBLISH
X-WR-CALNAME:Blue Jeans &amp; Bordeaux
X-ORIGINAL-URL:https://bluejeansandbordeaux.com
X-WR-CALDESC:Events for Blue Jeans &amp; Bordeaux
REFRESH-INTERVAL;VALUE=DURATION:PT1H
X-Robots-Tag:noindex
X-PUBLISHED-TTL:PT1H
BEGIN:VTIMEZONE
TZID:America/Mexico_City
BEGIN:STANDARD
TZOFFSETFROM:-0600
TZOFFSETTO:-0600
TZNAME:CST
DTSTART:20250101T000000
END:STANDARD
END:VTIMEZONE
BEGIN:VEVENT
DTSTART;TZID=America/Mexico_City:20260516T150000
DTEND;TZID=America/Mexico_City:20260516T180000
DTSTAMP:20260423T070250
CREATED:20260330T025128Z
LAST-MODIFIED:20260413T142638Z
UID:94362-1778943600-1778954400@bluejeansandbordeaux.com
SUMMARY:A Love Song For Rickie Wilde
DESCRIPTION:This one calls for a slow pour and a conversation you don’t rush. \nJoin me for our next book club night as we settle into A Long Song for Rickie Wilde—a slow burn with an instant pull you can’t quite explain. The kind of story where love shows up magnetic from the start\, but unfolds in its own time… layered\, destined\, and impossible to ignore. \nWe’re bringing wine\, honest reflections\, and all the moments that made you pause\, reread\, or just sit there for a second. No need to have neat answers—this is one of those books you feel your way through. \nCome ready to share what lingered with you\, what surprised you\, and what stayed a little longer than you expected. \nLocation details will be shared closer to the event\, but we’ll be gathering somewhere in Houston\, TX. \nThis one is meant to be savored.
URL:https://bluejeansandbordeaux.com/event/a-love-song-for-rickie-wilde/
CATEGORIES:Book Club
ORGANIZER;CN="Kesha":MAILTO:bluejeansandbordeaux@gmail.com
END:VEVENT
END:VCALENDAR